BEGIN:VCALENDAR
VERSION:2.0
PRODID:-//CFPA Europe - ECPv5.14.2.1//NONSGML v1.0//EN
CALSCALE:GREGORIAN
METHOD:PUBLISH
X-WR-CALNAME:CFPA Europe
X-ORIGINAL-URL:https://cfpa-e.eu
X-WR-CALDESC:Events for CFPA Europe
REFRESH-INTERVAL;VALUE=DURATION:PT1H
X-Robots-Tag:noindex
X-PUBLISHED-TTL:PT1H
BEGIN:VTIMEZONE
TZID:Europe/Paris
BEGIN:DAYLIGHT
TZOFFSETFROM:+0100
TZOFFSETTO:+0200
TZNAME:CEST
DTSTART:20260329T010000
END:DAYLIGHT
BEGIN:STANDARD
TZOFFSETFROM:+0200
TZOFFSETTO:+0100
TZNAME:CET
DTSTART:20261025T010000
END:STANDARD
END:VTIMEZONE
BEGIN:VEVENT
DTSTART;TZID=Europe/Paris:20260504T080000
DTEND;TZID=Europe/Paris:20260504T120000
DTSTAMP:20260421T124133
CREATED:20260331T094834Z
LAST-MODIFIED:20260331T094834Z
UID:12698-1777881600-1777896000@cfpa-e.eu
SUMMARY:Forum Fire Safety Construction and Civil Engineering
DESCRIPTION:Date: May 4 \nTime: 08.00-12.00 \nPlace: Digital via Zoom \nFor whom: This day is suitable for everyone who works with or is responsible for fire protection and safety issues in construction and civil engineering. \nLink to program and registration: https://www.brandskyddsforeningen.se/webbshop/konferenser-och-seminarier/forum-brandsakerhet-bygg-och-anlaggning/
URL:https://cfpa-e.eu/event/forum-fire-safety-construction-and-civil-engineering/
CATEGORIES:webinar
END:VEVENT
END:VCALENDAR