BEGIN:VCALENDAR
VERSION:2.0
PRODID:-//CFPA Europe - ECPv5.14.2.1//NONSGML v1.0//EN
CALSCALE:GREGORIAN
METHOD:PUBLISH
X-WR-CALNAME:CFPA Europe
X-ORIGINAL-URL:https://cfpa-e.eu
X-WR-CALDESC:Events for CFPA Europe
REFRESH-INTERVAL;VALUE=DURATION:PT1H
X-Robots-Tag:noindex
X-PUBLISHED-TTL:PT1H
BEGIN:VTIMEZONE
TZID:Europe/Paris
BEGIN:DAYLIGHT
TZOFFSETFROM:+0100
TZOFFSETTO:+0200
TZNAME:CEST
DTSTART:20240331T010000
END:DAYLIGHT
BEGIN:STANDARD
TZOFFSETFROM:+0200
TZOFFSETTO:+0100
TZNAME:CET
DTSTART:20241027T010000
END:STANDARD
END:VTIMEZONE
BEGIN:VEVENT
DTSTART;VALUE=DATE:20241029
DTEND;VALUE=DATE:20241031
DTSTAMP:20260419T182132
CREATED:20240909T122025Z
LAST-MODIFIED:20240909T122025Z
UID:11395-1730160000-1730332799@cfpa-e.eu
SUMMARY:Norway's Most Important Event for Fire Investigators
DESCRIPTION:As a participant\, you will have an exceptional opportunity to learn from some of the world’s leading experts in fire investigation\, including speakers from the USA\, Australia\, and Europe. You will also hear the story of a serial arsonist convicted of nearly 30 fires in Norway. The conference is not open to the general public but is exclusively for the police\, fire departments\, and local electrical inspection authorities. \nMore highlights: \n\nGain insights into the latest techniques and methods in fire investigation.\nWitness spectacular fire experiments.\nLearn more about the use of digital evidence\, interpretation of electrical installations\, and fires in solar power systems.\n\nAttending the Fire Investigation Conference 2024 is an investment in professional development and networking. The conference offers a unique opportunity to stay updated on the latest trends in fire investigation and to connect with other professionals across the industry and borders. \nThe conference will take place on October 29 and 30\, 2024\, at Gardermoen\, and includes accommodation\, lunch\, and a gala dinner. \nRegister here: https://events.provisoevent.no/brannvern/events/brannetterforskningskonferansen2024/register
URL:https://cfpa-e.eu/event/norways-most-important-event-for-fire-investigators/
CATEGORIES:CFPA
END:VEVENT
END:VCALENDAR